BEGIN:VCALENDAR
VERSION:2.0
PRODID:-//ChamberMaster//Event Calendar 2.0//EN
METHOD:PUBLISH
X-PUBLISHED-TTL:P1H
REFRESH-INTERVAL:P1H
CALSCALE:GREGORIAN
BEGIN:VTIMEZONE
TZID:America/New_York
BEGIN:DAYLIGHT
RRULE:FREQ=YEARLY;BYMONTH=3;BYDAY=2SU
DTSTART:20070101T000000
TZOFFSETFROM:-0500
TZOFFSETTO:-0400
TZNAME:Eastern Daylight Time
END:DAYLIGHT
BEGIN:STANDARD
RRULE:FREQ=YEARLY;BYMONTH=11;BYDAY=1SU
DTSTART:20070101T000000
TZOFFSETFROM:-0400
TZOFFSETTO:-0500
TZNAME:Eastern Standard Time
END:STANDARD
END:VTIMEZONE
BEGIN:VEVENT
DTSTART;TZID=America/New_York:20260516T090000
DTEND;TZID=America/New_York:20260516T120000
X-MICROSOFT-CDO-ALLDAYEVENT:FALSE
SUMMARY:West Georgia's Women 6th Annual Women's Extravaganza
DESCRIPTION:Vendors\, shopping\, complimentary beauty bar + massage\, breakfast bar\, networking and a free swag bag for the first 200 registered guests.\nJoin West Georgia Woman Magazine and presenting sponsor Tanner Women’s Care for a morning of self care and wellness.\nOnly contact Sydney@westgeorgiawoman.com for information on vendor applications!
X-ALT-DESC;FMTTYPE=text/html:Vendors\, shopping\, complimentary beauty bar + massage\, breakfast bar\, networking and a free swag bag for the first 200 registered guests.\nJoin West Georgia Woman Magazine and presenting sponsor Tanner Women’s Care for a morning of self care and wellness.\nOnly contact Sydney@westgeorgiawoman.com for information on vendor applications!
LOCATION:2115 Maple Street Carrollton GA 30117
UID:e.2940.1448015
SEQUENCE:3
DTSTAMP:20260421T191929Z
URL:https://business.haralson.org/events/Details/west-georgia-s-women-6th-annual-women-s-extravaganza-1714967?sourceTypeId=Hub
END:VEVENT
END:VCALENDAR
