BEGIN:VCALENDAR
VERSION:2.0
PRODID:-//ChamberMaster//Event Calendar 2.0//EN
METHOD:PUBLISH
X-PUBLISHED-TTL:P1H
REFRESH-INTERVAL:P1H
CALSCALE:GREGORIAN
BEGIN:VTIMEZONE
TZID:America/New_York
BEGIN:DAYLIGHT
RRULE:FREQ=YEARLY;BYMONTH=3;BYDAY=2SU
DTSTART:20070101T000000
TZOFFSETFROM:-0500
TZOFFSETTO:-0400
TZNAME:Eastern Daylight Time
END:DAYLIGHT
BEGIN:STANDARD
RRULE:FREQ=YEARLY;BYMONTH=11;BYDAY=1SU
DTSTART:20070101T000000
TZOFFSETFROM:-0400
TZOFFSETTO:-0500
TZNAME:Eastern Standard Time
END:STANDARD
END:VTIMEZONE
BEGIN:VEVENT
DTSTART;TZID=America/New_York:20260509T100000
DTEND;TZID=America/New_York:20260509T160000
X-MICROSOFT-CDO-ALLDAYEVENT:FALSE
SUMMARY:One Year Anniversary and Mother's Day Event
DESCRIPTION:🌸 Southern Sage 1-Year Anniversary Garden Party 🌸\nMother’s Day Weekend Celebration\nJoin us Saturday\, May 9 from 11–3 as we celebrate ONE year of Southern Sage and our neighbors at Endless Dreams Boutique! 🎉\n🎶 Live music\n🍋 Fresh squeezed lemonade & specialty drinks\n🍗 A fun\, limited Southern Sage menu\n🎯 Cornhole + space to hang out\n🎨 Face painting for the kids\n🛍️ Local vendors\, flowers & gifts next door\nCelebrate Mom\, shop local\, and stay awhile with us 💛
X-ALT-DESC;FMTTYPE=text/html:🌸 Southern Sage 1-Year Anniversary Garden Party 🌸\nMother’s Day Weekend Celebration\nJoin us Saturday\, May 9 from 11–3 as we celebrate ONE year of Southern Sage and our neighbors at Endless Dreams Boutique! 🎉\n🎶 Live music\n🍋 Fresh squeezed lemonade & specialty drinks\n🍗 A fun\, limited Southern Sage menu\n🎯 Cornhole + space to hang out\n🎨 Face painting for the kids\n🛍️ Local vendors\, flowers & gifts next door\nCelebrate Mom\, shop local\, and stay awhile with us 💛
LOCATION:107 Dewey Street Suite B Tallapoosa GA 30176
UID:e.2940.1448004
SEQUENCE:3
DTSTAMP:20260421T191812Z
URL:https://business.haralson.org/events/Details/one-year-anniversary-and-mother-s-day-event-1714957?sourceTypeId=Hub
END:VEVENT
END:VCALENDAR
