BEGIN:VCALENDAR
VERSION:2.0
PRODID:-//ChamberMaster//Event Calendar 2.0//EN
METHOD:PUBLISH
X-PUBLISHED-TTL:P1H
REFRESH-INTERVAL:P1H
CALSCALE:GREGORIAN
BEGIN:VTIMEZONE
TZID:America/New_York
BEGIN:DAYLIGHT
RRULE:FREQ=YEARLY;BYMONTH=3;BYDAY=2SU
DTSTART:20070101T000000
TZOFFSETFROM:-0500
TZOFFSETTO:-0400
TZNAME:Eastern Daylight Time
END:DAYLIGHT
BEGIN:STANDARD
RRULE:FREQ=YEARLY;BYMONTH=11;BYDAY=1SU
DTSTART:20070101T000000
TZOFFSETFROM:-0400
TZOFFSETTO:-0500
TZNAME:Eastern Standard Time
END:STANDARD
END:VTIMEZONE
BEGIN:VEVENT
DTSTART;TZID=America/New_York:20260502T100000
DTEND;TZID=America/New_York:20260502T140000
X-MICROSOFT-CDO-ALLDAYEVENT:FALSE
SUMMARY:Mother's Day Market at Teal Barn Company
DESCRIPTION:Treat mom with a day of shopping\, sipping\, treats\, permanent jewelry\, fresh florals and a sweet handprint craft for the kids!\nLulu's - 20% off everything in store - Tastings of market items\nTeal Barn Co - $15 keepsake craft with your child's handprint - plus a free card making station!\nGracefully Bonded - Buy One Get One - Free children's anklet or bracelet with the purchase of an adult chain - 10% off gift card purchases\nThe Dirty South Sips will have delicious drinks.\nAllison's Sweets will have a variety of baked goods that everyone will love.\nPlus\, fresh florals will be available for purchase.\nSaturday\, May 2nd - 10am to 2pm\n301 Hamilton Ave \nBremen
X-ALT-DESC;FMTTYPE=text/html:Treat mom with a day of shopping\, sipping\, treats\, permanent jewelry\, fresh florals and a sweet handprint craft for the kids!\nLulu's - 20% off everything in store - Tastings of market items\nTeal Barn Co - $15 keepsake craft with your child's handprint - plus a free card making station!\nGracefully Bonded - Buy One Get One - Free children's anklet or bracelet with the purchase of an adult chain - 10% off gift card purchases\nThe Dirty South Sips will have delicious drinks.\nAllison's Sweets will have a variety of baked goods that everyone will love.\nPlus\, fresh florals will be available for purchase.\nSaturday\, May 2nd - 10am to 2pm\n301 Hamilton Ave \nBremen
LOCATION:301 Hamilton Ave Suite 2 Bremen GA 30110
UID:e.2940.1448629
SEQUENCE:3
DTSTAMP:20260423T022347Z
URL:https://business.haralson.org/events/Details/mother-s-day-market-at-teal-barn-company-1715697?sourceTypeId=Hub
END:VEVENT
END:VCALENDAR
