BEGIN:VCALENDAR
VERSION:2.0
PRODID:-//ChamberMaster//Event Calendar 2.0//EN
METHOD:PUBLISH
X-PUBLISHED-TTL:P1H
REFRESH-INTERVAL:P1H
CALSCALE:GREGORIAN
BEGIN:VTIMEZONE
TZID:America/New_York
BEGIN:DAYLIGHT
RRULE:FREQ=YEARLY;BYMONTH=3;BYDAY=2SU
DTSTART:20070101T000000
TZOFFSETFROM:-0500
TZOFFSETTO:-0400
TZNAME:Eastern Daylight Time
END:DAYLIGHT
BEGIN:STANDARD
RRULE:FREQ=YEARLY;BYMONTH=11;BYDAY=1SU
DTSTART:20070101T000000
TZOFFSETFROM:-0400
TZOFFSETTO:-0500
TZNAME:Eastern Standard Time
END:STANDARD
END:VTIMEZONE
BEGIN:VEVENT
DTSTART;TZID=America/New_York:20260502T110000
DTEND;TZID=America/New_York:20260502T140000
X-MICROSOFT-CDO-ALLDAYEVENT:FALSE
SUMMARY:Mother Daughter Bridgerton Tea
DESCRIPTION:Dearest Gentle Readers\,In honor of the newest season's debut\, it seems the Bremen Rec Department has been quietly preparing a most delightful affair  and your faithful correspondent simply could not keep such delicious news to herself.On May 2nd\, 2026\, in honor of Mother's Day\, mothers and daughters are cordially invited to attend the Bridgeton Mother & Daughter Tea. An afternoon of elegance\, laughter\, and sparkling company awaits.One may expect a perfume blending bar to craft a signature scent\, bracelet making fit for treasured keepsakes\, a charming photo booth for portraits worthy of the ton\, and even bocce ball upon the lawn for those with a playful competitive streak. Live music will set the mood\, while flower party favors ensure each guest departs with a token of the day's beauty.Reservations for this sought-after gathering shall go live in March. It would be wise to stay watchful\, for seats at society's finest events are never available for long.Until then\, keep your teacups ready and your calendars open. This is one invitation you will not wish to miss.Yours in anticipation\,Lady Whistledown
X-ALT-DESC;FMTTYPE=text/html:<!DOCTYPE html><html><head><title></title></head><body aria-disabled="false"><p><meta charset="utf-8"></p><div style='margin-inline: 0px\; padding-inline: 0px\; padding-bottom: 0px\; margin-bottom: 0px\; margin-top: 0px\; padding-top: 0px\; font-family: system-ui\, -apple-system\, "system-ui"\, ".SFNSText-Regular"\, sans-serif\; color: rgb(28\, 30\, 33)\; font-size: 12px\; font-style: normal\; font-variant-ligatures: normal\; font-variant-caps: normal\; font-weight: 400\; letter-spacing: normal\; orphans: 2\; text-align: start\; text-indent: 0px\; text-transform: none\; widows: 2\; word-spacing: 0px\; -webkit-text-stroke-width: 0px\; white-space: normal\; background-color: rgb(255\, 255\, 255)\; text-decoration-thickness: initial\; text-decoration-style: initial\; text-decoration-color: initial\;'><div style="margin-inline: 0px\; padding-inline: 0px\; padding-bottom: 0px\; margin-bottom: 0px\; margin-top: 0px\; padding-top: 0px\; font-family: inherit\;"><div style="margin-inline: 0px\; padding-inline: 0px\; padding-bottom: 0px\; margin-bottom: 0px\; margin-top: 0px\; padding-top: 0px\; font-family: inherit\;"><div style="margin-inline: 0px\; padding-inline: 0px\; padding-bottom: 0px\; margin-bottom: 0px\; margin-top: 0px\; padding-top: 0px\; font-family: inherit\;"><div dir="auto" style="margin-inline: 0px\; padding-inline: 0px\; padding-bottom: 0px\; margin-bottom: 0px\; margin-top: 0px\; padding-top: 0px\; font-family: inherit\;"><div data-ad-rendering-role="story_message" style="margin-inline: 0px\; padding-inline: 0px\; padding-bottom: 0px\; margin-bottom: 0px\; margin-top: 0px\; padding-top: 0px\; font-family: inherit\;"><div data-ad-comet-preview="message" data-ad-preview="message" style="padding-inline: 12px\; padding-top: 4px\; padding-bottom: 16px\; font-family: inherit\;"><div style="display: flex\; flex-direction: column\; margin-top: -5px\; margin-bottom: -5px\; font-family: inherit\;"><div style="margin-top: 5px\; margin-bottom: 5px\; font-family: inherit\;"><span dir="auto" style="word-break: break-word\; display: block\; font-family: inherit\; overflow-wrap: break-word\; text-align: start\; font-size: 0.9375rem\; font-weight: 400\; -webkit-font-smoothing: antialiased\; line-height: 1.3333\; color: rgb(8\, 8\, 9)\; max-width: 100%\; min-width: 0px\;"><div style="margin-inline: 0px\; padding-inline: 0px\; padding-bottom: 0px\; margin-bottom: 0px\; margin-top: 0px\; padding-top: 0px\; font-family: inherit\;"><div style="white-space: pre-wrap\; margin-inline: 0px\; overflow-wrap: break-word\; margin-bottom: 0px\; margin-top: 0px\; font-family: inherit\;"><div dir="auto" style="font-family: inherit\; text-align: start\;">Dearest Gentle Readers\,</div></div><div style="white-space: pre-wrap\; margin-inline: 0px\; overflow-wrap: break-word\; margin-bottom: 0px\; margin-top: 0.5em\; font-family: inherit\;"><div dir="auto" style="font-family: inherit\; text-align: start\;">In honor of the newest season&#39\;s debut\, it seems the Bremen Rec Department has been quietly preparing a most delightful affair&hellip\; and your faithful correspondent simply could not keep such delicious news to herself.</div></div><div style="white-space: pre-wrap\; margin-inline: 0px\; overflow-wrap: break-word\; margin-bottom: 0px\; margin-top: 0.5em\; font-family: inherit\;"><div dir="auto" style="font-family: inherit\; text-align: start\;">On May 2nd\, 2026\, in honor of Mother&rsquo\;s Day\, mothers and daughters are cordially invited to attend the Bridgeton Mother &amp\; Daughter Tea. An afternoon of elegance\, laughter\, and sparkling company awaits.</div></div><div style="white-space: pre-wrap\; margin-inline: 0px\; overflow-wrap: break-word\; margin-bottom: 0px\; margin-top: 0.5em\; font-family: inherit\;"><div dir="auto" style="font-family: inherit\; text-align: start\;">One may expect a perfume blending bar to craft a signature scent\, bracelet making fit for treasured keepsakes\, a charming photo booth for portraits worthy of the ton\, and even bocce ball upon the lawn for those with a playful competitive streak. Live music will set the mood\, while flower party favors ensure each guest departs with a token of the day&rsquo\;s beauty.</div></div><div style="white-space: pre-wrap\; margin-inline: 0px\; overflow-wrap: break-word\; margin-bottom: 0px\; margin-top: 0.5em\; font-family: inherit\;"><div dir="auto" style="font-family: inherit\; text-align: start\;">Reservations for this sought-after gathering shall go live in March. It would be wise to stay watchful\, for seats at society&rsquo\;s finest events are never available for long.</div></div><div style="white-space: pre-wrap\; margin-inline: 0px\; overflow-wrap: break-word\; margin-bottom: 0px\; margin-top: 0.5em\; font-family: inherit\;"><div dir="auto" style="font-family: inherit\; text-align: start\;">Until then\, keep your teacups ready and your calendars open. This is one invitation you will not wish to miss.</div></div><div style="white-space: pre-wrap\; margin-inline: 0px\; overflow-wrap: break-word\; margin-bottom: 0px\; margin-top: 0.5em\; font-family: inherit\;"><div dir="auto" style="font-family: inherit\; text-align: start\;">Yours in anticipation\,</div><div dir="auto" style="font-family: inherit\; text-align: start\;">Lady Whistledown</div></div></div></span></div></div></div></div></div><div style="margin-inline: 0px\; padding-inline: 0px\; position: relative\; padding-bottom: 0px\; margin-bottom: 0px\; margin-top: 0px\; padding-top: 0px\; font-family: inherit\;"><div style="margin-inline: 0px\; padding-inline: 0px\; position: relative\; padding-bottom: 0px\; margin-bottom: 0px\; margin-top: 0px\; padding-top: 0px\; font-family: inherit\;"><br></div><div style="margin-inline: 0px\; padding-inline: 0px\; overflow: hidden\; padding-bottom: 0px\; margin-bottom: 0px\; margin-top: 0px\; padding-top: 0px\; font-family: inherit\;"><br></div></div></div><div style="font-family: inherit\;"><div data-visualcompletion="ignore-dynamic" style="overflow: hidden\; border-radius: 0px 0px 8px 8px\; font-family: inherit\;"><div style="font-family: inherit\;"><div style="font-family: inherit\;"><div style="font-family: inherit\;"><div style="margin-top: 4px\; height: 44px\; font-family: inherit\;"><div style="padding-inline: 4px\; z-index: 0\; position: relative\; flex-flow: row\; justify-content: space-between\; flex-shrink: 0\; align-items: center\; display: flex\; box-sizing: border-box\; padding-bottom: 0px\; margin-bottom: -6px\; padding-top: 0px\; margin-top: -6px\; font-family: inherit\;"><div style="z-index: 0\; position: relative\; flex-shrink: 0\; display: flex\; box-sizing: border-box\; flex-direction: column\; padding-bottom: 6px\; max-width: 100%\; padding-top: 6px\; min-width: 0px\; font-family: inherit\;"><br></div><div style="z-index: 0\; position: relative\; flex-shrink: 0\; display: flex\; box-sizing: border-box\; flex-direction: column\; padding-bottom: 6px\; max-width: 100%\; padding-top: 6px\; min-width: 0px\; font-family: inherit\;"><br></div><div style="z-index: 0\; position: relative\; flex-shrink: 0\; display: flex\; box-sizing: border-box\; flex-direction: column\; padding-bottom: 6px\; max-width: 100%\; padding-top: 6px\; min-width: 0px\; font-family: inherit\;"><br></div><div style="z-index: 0\; position: relative\; flex-shrink: 0\; align-items: center\; display: flex\; box-sizing: border-box\; flex-direction: column\; padding-inline: 8px\; justify-content: center\; margin-inline-start: auto\; padding-bottom: 6px\; max-width: 100%\; padding-top: 6px\; min-width: 0px\; height: 44px\; font-family: inherit\;"><br></div></div></div></div></div></div></div></div></div></div></div><div aria-hidden="true" data-0="0" data-1="1" data-10="10" data-11="11" data-12="12" data-13="13" data-14="14" data-15="15" data-16="16" data-17="17" data-18="18" data-19="19" data-2="2" data-3="3" data-4="4" data-5="5" data-6="6" data-7="7" data-8="8" data-9="9" style='position: absolute\; inset-inline-start: -10000px\; top: -10000px\; font-family: system-ui\, -apple-system\, "system-ui"\, ".SFNSText-Regular"\, sans-serif\; color: rgb(28\, 30\, 33)\; font-size: 12px\; font-style: normal\; font-variant-ligatures: normal\; font-variant-caps: normal\; font-weight: 400\; letter-spacing: normal\; orphans: 2\; text-align: start\; text-indent: 0px\; text-transform: none\; widows: 2\; word-spacing: 0px\; -webkit-text-stroke-width: 0px\; white-space: normal\; background-color: rgb(255\, 255\, 255)\; text-decoration-thickness: initial\; text-decoration-style: initial\; text-decoration-color: initial\;'><blockquote fr-original-style="border-inline-start: 4px solid rgb(208\, 211\, 215)\; margin-inline: 0px\; padding-inline: 16px\; padding-bottom: 0px\; margin-top: 4px\; padding-top: 0px\; margin-bottom: 20px\;" style="border-left: 2px solid rgb(94\, 53\, 177)\; margin-left: 0px\; padding-left: 5px\; color: rgb(94\, 53\, 177)\; border-inline-start: 4px solid rgb(208\, 211\, 215)\; margin-inline: 0px\; padding-inline: 16px\; padding-bottom: 0px\; margin-top: 4px\; padding-top: 0px\; margin-bottom: 20px\;"><br></blockquote></div></body></html>
LOCATION:417 River Circle Bremen GA 30110
UID:e.2940.1447976
SEQUENCE:3
DTSTAMP:20260421T191800Z
URL:https://business.haralson.org/events/Details/mother-daughter-bridgerton-tea-1714930?sourceTypeId=Hub
END:VEVENT
END:VCALENDAR
