BEGIN:VCALENDAR
VERSION:2.0
PRODID:-//ChamberMaster//Event Calendar 2.0//EN
METHOD:PUBLISH
X-PUBLISHED-TTL:P1H
REFRESH-INTERVAL:P1H
CALSCALE:GREGORIAN
BEGIN:VTIMEZONE
TZID:America/New_York
BEGIN:DAYLIGHT
RRULE:FREQ=YEARLY;BYMONTH=3;BYDAY=2SU
DTSTART:20070101T000000
TZOFFSETFROM:-0500
TZOFFSETTO:-0400
TZNAME:Eastern Daylight Time
END:DAYLIGHT
BEGIN:STANDARD
RRULE:FREQ=YEARLY;BYMONTH=11;BYDAY=1SU
DTSTART:20070101T000000
TZOFFSETFROM:-0400
TZOFFSETTO:-0500
TZNAME:Eastern Standard Time
END:STANDARD
END:VTIMEZONE
BEGIN:VEVENT
DTSTART;TZID=America/New_York:20260623T090000
DTEND;TZID=America/New_York:20260623T110000
X-MICROSOFT-CDO-ALLDAYEVENT:FALSE
SUMMARY:Excel Excellence- Beginner
DESCRIPTION:The Excel Beginner session is the perfect starting point for those new to Excel. This session will introduce participants to the fundamental features and functions of Excel\, equipping them with the essential skills needed to navigate and utilize the program effectively.
X-ALT-DESC;FMTTYPE=text/html:The Excel Beginner session is the perfect starting point for those new to Excel. This session will introduce participants to the fundamental features and functions of Excel\, equipping them with the essential skills needed to navigate and utilize the program effectively.
LOCATION:1601 Maple St Carrollton 30118
UID:e.2940.1447872
SEQUENCE:3
DTSTAMP:20260421T191500Z
URL:https://business.haralson.org/events/Details/excel-excellence-beginner-1714811?sourceTypeId=Hub
END:VEVENT
END:VCALENDAR
